BEGIN:VCALENDAR
VERSION:2.0
PRODID:-//Darien Chamber Of Commerce - ECPv6.15.14//NONSGML v1.0//EN
CALSCALE:GREGORIAN
METHOD:PUBLISH
X-WR-CALNAME:Darien Chamber Of Commerce
X-ORIGINAL-URL:https://www.darienctchamber.com
X-WR-CALDESC:Events for Darien Chamber Of Commerce
REFRESH-INTERVAL;VALUE=DURATION:PT1H
X-Robots-Tag:noindex
X-PUBLISHED-TTL:PT1H
BEGIN:VTIMEZONE
TZID:America/New_York
BEGIN:DAYLIGHT
TZOFFSETFROM:-0500
TZOFFSETTO:-0400
TZNAME:EDT
DTSTART:20250309T070000
END:DAYLIGHT
BEGIN:STANDARD
TZOFFSETFROM:-0400
TZOFFSETTO:-0500
TZNAME:EST
DTSTART:20251102T060000
END:STANDARD
BEGIN:DAYLIGHT
TZOFFSETFROM:-0500
TZOFFSETTO:-0400
TZNAME:EDT
DTSTART:20260308T070000
END:DAYLIGHT
BEGIN:STANDARD
TZOFFSETFROM:-0400
TZOFFSETTO:-0500
TZNAME:EST
DTSTART:20261101T060000
END:STANDARD
BEGIN:DAYLIGHT
TZOFFSETFROM:-0500
TZOFFSETTO:-0400
TZNAME:EDT
DTSTART:20270314T070000
END:DAYLIGHT
BEGIN:STANDARD
TZOFFSETFROM:-0400
TZOFFSETTO:-0500
TZNAME:EST
DTSTART:20271107T060000
END:STANDARD
END:VTIMEZONE
BEGIN:VEVENT
DTSTART;TZID=America/New_York:20260419T153000
DTEND;TZID=America/New_York:20260419T170000
DTSTAMP:20260419T233306
CREATED:20260331T154302Z
LAST-MODIFIED:20260331T154302Z
UID:31844-1776612600-1776618000@www.darienctchamber.com
SUMMARY:The Finance Recruiting Edge: A Former J.P. Morgan MD’s Insider Guide for Parents
DESCRIPTION:A workshop for parents of college students considering a path into Wall Street and high finance careers. \nThe path to a Wall Street job used to be simple for college grads with good grades. Not anymore. Today’s finance hopefuls must secure two summer internships during sophomore year—one for the following summer and one for after junior year. The traditional senior year job search has been replaced by a multi-year campaign most families never see coming. \nJoin us for this free\, 90-minute in-person presentation at HAYVN in Old Greenwich to discover: \n— The new Wall Street recruiting timeline catching families off guard\n— Strategies to position your child for success\n— What parents can do to help navigate this reality \nCome with your questions! We encourage open discussion as we tackle these challenges together.
URL:https://www.darienctchamber.com/community-event/the-finance-recruiting-edge-a-former-j-p-morgan-mds-insider-guide-for-parents/
LOCATION:HAYVN Greenwich\, Sunday\, April 19th | 3:30–5:00 PM ET HAYVN | 1700 E Putnam Ave\, Suite 208\, Old Greenwich\, CT\, United States
CATEGORIES:Public
ATTACH;FMTTYPE=image/png:https://www.darienctchamber.com/wp-content/uploads/2026/03/FB-HAYVN-Event-Flyer-04192026.png
ORGANIZER;CN="Guided Ascent Career Coaching":MAILTO:curtis@guidedascentcoaching.com
END:VEVENT
END:VCALENDAR