BEGIN:VCALENDAR
VERSION:2.0
PRODID:-//Darien Chamber Of Commerce - ECPv6.15.14//NONSGML v1.0//EN
CALSCALE:GREGORIAN
METHOD:PUBLISH
X-WR-CALNAME:Darien Chamber Of Commerce
X-ORIGINAL-URL:https://www.darienctchamber.com
X-WR-CALDESC:Events for Darien Chamber Of Commerce
REFRESH-INTERVAL;VALUE=DURATION:PT1H
X-Robots-Tag:noindex
X-PUBLISHED-TTL:PT1H
BEGIN:VTIMEZONE
TZID:America/New_York
BEGIN:DAYLIGHT
TZOFFSETFROM:-0500
TZOFFSETTO:-0400
TZNAME:EDT
DTSTART:20250309T070000
END:DAYLIGHT
BEGIN:STANDARD
TZOFFSETFROM:-0400
TZOFFSETTO:-0500
TZNAME:EST
DTSTART:20251102T060000
END:STANDARD
BEGIN:DAYLIGHT
TZOFFSETFROM:-0500
TZOFFSETTO:-0400
TZNAME:EDT
DTSTART:20260308T070000
END:DAYLIGHT
BEGIN:STANDARD
TZOFFSETFROM:-0400
TZOFFSETTO:-0500
TZNAME:EST
DTSTART:20261101T060000
END:STANDARD
BEGIN:DAYLIGHT
TZOFFSETFROM:-0500
TZOFFSETTO:-0400
TZNAME:EDT
DTSTART:20270314T070000
END:DAYLIGHT
BEGIN:STANDARD
TZOFFSETFROM:-0400
TZOFFSETTO:-0500
TZNAME:EST
DTSTART:20271107T060000
END:STANDARD
END:VTIMEZONE
BEGIN:VEVENT
DTSTART;TZID=America/New_York:20260421T093000
DTEND;TZID=America/New_York:20260421T113000
DTSTAMP:20260421T013323
CREATED:20260325T230124Z
LAST-MODIFIED:20260325T230124Z
UID:31666-1776763800-1776771000@www.darienctchamber.com
SUMMARY:DCA Spring Gardening Workshop
DESCRIPTION:Celebrate Earth Day by getting your hands dirty in the DCA Formal Garden! Join our Greenhouse Group for a hands-on morning of spring cleanup—clearing debris\, trimming plants\, and preparing the garden for new growth—all while supporting the DCA’s commitment to sustainability and caring for our green spaces. Bring your gloves and enthusiasm\, and help our garden shine for the season. All are welcome—stay for lunch\, on us! \nFree and open to the public; please sign up in advance.
URL:https://www.darienctchamber.com/community-event/dca-spring-gardening-workshop/
LOCATION:Darien Community Association\, 274 Middlesex Road\, Darien\, CT\, 06820\, United States
ATTACH;FMTTYPE=image/jpeg:https://www.darienctchamber.com/wp-content/uploads/2026/03/FALLspring-GARDENING-WORKSHOP.jpg
ORGANIZER;CN="Darien Community Association":MAILTO:info@dariendca.org
END:VEVENT
BEGIN:VEVENT
DTSTART;TZID=America/New_York:20260421T120000
DTEND;TZID=America/New_York:20260421T130000
DTSTAMP:20260421T013323
CREATED:20260324T205000Z
LAST-MODIFIED:20260324T205000Z
UID:31609-1776772800-1776776400@www.darienctchamber.com
SUMMARY:HAYVN Halftime: Getting More from AI: Tips & Techniques for Busy Professionals w/ Curtis Butler
DESCRIPTION:Curtis Butler\, Guided Ascent Career Coaching with a relaxed\, informative session featuring live demos of powerful AI tools many users don’t realize exist—from preference-saving Projects to time-saving research features and smarter professional communication support. You’ll walk away with practical ideas and real examples to help you get more value from AI in your everyday work. HAYVN Members free w/ code on members portal.\nREGISTER:https://www.eventbrite.com/e/halftime-getting-more-from-ai-tips-techniques-for-busy-professionals-tickets-1984299672737?aff=oddtdtcreator&_gl=1*qza2xw*_gcl_au*MTE4NjA1MTIyNS4xNzcxMzU3NjE3*_ga*Mjc3MzA3ODc4LjE3NjM1NzYwNjE.*_ga_8VY00MFCH3*czE3NzQzNzY5MzYkbzE2MSRnMSR0MTc3NDM3NzMzMyRqNjAkbDAkaDA.
URL:https://www.darienctchamber.com/community-event/hayvn-halftime-getting-more-from-ai-tips-techniques-for-busy-professionals-w-curtis-butler/
LOCATION:HAYVN\, 320 Boston Post Road Darien\, 06820 United States
ATTACH;FMTTYPE=image/png:https://www.darienctchamber.com/wp-content/uploads/2026/03/Important-Graphic-for-posting.png
ORGANIZER;CN="HAYVN":MAILTO:hello@hayvn.com
END:VEVENT
END:VCALENDAR