BEGIN:VCALENDAR
VERSION:2.0
PRODID:-//Darien Chamber Of Commerce - ECPv6.15.14//NONSGML v1.0//EN
CALSCALE:GREGORIAN
METHOD:PUBLISH
X-WR-CALNAME:Darien Chamber Of Commerce
X-ORIGINAL-URL:https://www.darienctchamber.com
X-WR-CALDESC:Events for Darien Chamber Of Commerce
REFRESH-INTERVAL;VALUE=DURATION:PT1H
X-Robots-Tag:noindex
X-PUBLISHED-TTL:PT1H
BEGIN:VTIMEZONE
TZID:America/New_York
BEGIN:DAYLIGHT
TZOFFSETFROM:-0500
TZOFFSETTO:-0400
TZNAME:EDT
DTSTART:20250309T070000
END:DAYLIGHT
BEGIN:STANDARD
TZOFFSETFROM:-0400
TZOFFSETTO:-0500
TZNAME:EST
DTSTART:20251102T060000
END:STANDARD
BEGIN:DAYLIGHT
TZOFFSETFROM:-0500
TZOFFSETTO:-0400
TZNAME:EDT
DTSTART:20260308T070000
END:DAYLIGHT
BEGIN:STANDARD
TZOFFSETFROM:-0400
TZOFFSETTO:-0500
TZNAME:EST
DTSTART:20261101T060000
END:STANDARD
BEGIN:DAYLIGHT
TZOFFSETFROM:-0500
TZOFFSETTO:-0400
TZNAME:EDT
DTSTART:20270314T070000
END:DAYLIGHT
BEGIN:STANDARD
TZOFFSETFROM:-0400
TZOFFSETTO:-0500
TZNAME:EST
DTSTART:20271107T060000
END:STANDARD
END:VTIMEZONE
BEGIN:VEVENT
DTSTART;TZID=America/New_York:20260530T100000
DTEND;TZID=America/New_York:20260530T140000
DTSTAMP:20260425T200624
CREATED:20260415T182705Z
LAST-MODIFIED:20260415T182705Z
UID:32533-1780135200-1780149600@www.darienctchamber.com
SUMMARY:Community Blood Drive
DESCRIPTION:The Town of Darien is hosting a community blood drive with the Connecticut Blood Center at the Mather Senior Center. Saturday\, May 30\, 10 am to 2 pm
URL:https://www.darienctchamber.com/community-event/community-blood-drive/
LOCATION:Mather’s Center for Senior Activities\, 2 Renshaw Road\, Darien\, 06820\, United States
END:VEVENT
END:VCALENDAR